BEGIN:VCALENDAR
VERSION:2.0
PRODID: -//CMS 5.0 //NONSGML //DE
BEGIN:VEVENT
SUMMARY:Jugendsonntag
DESCRIPTION:<p>alle Jugendbetreuer + Konfirmanden Jahrgang 2013</p>\n\n<
 p>(BV + stvBV)</p>\n
UID:168296@www.nak-kempten.de
LOCATION:Kempten-Süd
CATEGORIES:Bezirk (und alle Gemeinden),Kempten-Süd,Gottesdienst,Jugend,Waltenhofen
X-ORGANIZER:
STATUS:CONFIRMED
CLASS:PUBLIC
DTSTART:20260517T080000Z
DTEND:20260517T080000Z
DTSTAMP:20260421T135135Z
CREATED:20190226T095636Z
LAST-MODIFIED:20260421T114319Z
END:VEVENT
BEGIN:VEVENT
SUMMARY:Gottesdienst mit Bischof Jürgen Gründemann
DESCRIPTION:
UID:195638@www.nak-kempten.de
LOCATION:Immenstadt
CATEGORIES:Immenstadt,Bezirk (ohne Gemeinden),Gottesdienst
X-ORGANIZER:
STATUS:CONFIRMED
CLASS:PUBLIC
DTSTART:20260423T180000Z
DTEND:20260423T180000Z
DTSTAMP:20260421T135135Z
CREATED:20191230T134404Z
LAST-MODIFIED:20260327T122204Z
END:VEVENT
BEGIN:VEVENT
SUMMARY:1. Konfirmandentag mit Eltern
DESCRIPTION:
UID:222805@www.nak-kempten.de
LOCATION:Kempten-Sankt Mang
CATEGORIES:Jugend,Kempten-Sankt Mang,Bezirk (ohne Gemeinden)
X-ORGANIZER:
STATUS:CONFIRMED
CLASS:PUBLIC
DTSTART:20260503T073000Z
DTEND:20260503T073000Z
DTSTAMP:20260421T135135Z
CREATED:20210331T180946Z
LAST-MODIFIED:20260421T113403Z
END:VEVENT
BEGIN:VEVENT
SUMMARY:Gottesdienst mit Apostel Volker Keck
DESCRIPTION:<p>Muttertag</p>\n
UID:225748@www.nak-kempten.de
LOCATION:Sonthofen
CATEGORIES:Sonthofen,Gottesdienst,Bezirk (ohne Gemeinden)
X-ORGANIZER:
STATUS:CONFIRMED
CLASS:PUBLIC
DTSTART:20260517T073000Z
DTEND:20260517T073000Z
DTSTAMP:20260421T135135Z
CREATED:20210428T070119Z
LAST-MODIFIED:20251226T124503Z
END:VEVENT
BEGIN:VEVENT
SUMMARY:Gottesdienst mit Bezirksapostel Michael Ehrich  
DESCRIPTION:<p>Übertragung aus Kempten-Süd</p>\n\n<p>&nbsp;</p>\n\n<p>
 Mit großer Freude und Begeisterung bereiten sich die Gemeinden im neua
 postolischen Kirchenbezirk Kempten auf den Fest-Gottesdienst an Ostern 
 mit Bezirksapostel Michael Ehrich vor. Ein Projektchor aus den 14 Gemei
 nden des Kirchenbezirks mit ca. 150 Mitwirkenden, ein 30-köpfiger Kind
 erchor sowie ein Musikensemble gestalten den Gottesdienst musikalisch m
 it.<br />\n​​​​​​​<a href="https://www.nak-kempten.de/dbc
 /1562821/361703/Hochfest-des-Glaubens-Ostern-2026-in-Kempten">Hier geht
  es zu ersten Eindrücken der Chorproben für den Ostergottesdienst</a>
 </p>\n
UID:241455@www.nak-kempten.de
LOCATION:alle Gemeinden mit BÜ
CATEGORIES:Bezirk (und alle Gemeinden),Gottesdienst
X-ORGANIZER:
STATUS:CONFIRMED
CLASS:PUBLIC
DTSTART:20260405T080000Z
DTEND:20260405T080000Z
DTSTAMP:20260421T135135Z
CREATED:20211130T180430Z
LAST-MODIFIED:20260323T200346Z
END:VEVENT
BEGIN:VEVENT
SUMMARY:Gottesdienst mit Bischof Jürgen Gründemann
DESCRIPTION:
UID:253056@www.nak-kempten.de
LOCATION:Kempten-Sankt Mang
CATEGORIES:Gottesdienst,Bezirk (ohne Gemeinden),Kempten-Sankt Mang
X-ORGANIZER:
STATUS:CONFIRMED
CLASS:PUBLIC
DTSTART:20260531T073000Z
DTEND:20260531T073000Z
DTSTAMP:20260421T135135Z
CREATED:20220328T191714Z
LAST-MODIFIED:20251226T124821Z
END:VEVENT
BEGIN:VEVENT
SUMMARY:Seniorennachmittag
DESCRIPTION:<p>Seniorengruppe Kempten, Dietmannsried, Isny, Kempten-Süd
 , Kempten-Sankt Mang, Obergünzburg, Waltenhofen</p>\n\n<p>Grillnachmit
 tag</p>\n
UID:266399@www.nak-kempten.de
LOCATION:Kempten-Sankt Mang
CATEGORIES:Isny,Senioren,Obergünzburg,Dietmannsried,Waltenhofen,Kempten-Sankt Mang
X-ORGANIZER:
STATUS:CONFIRMED
CLASS:PUBLIC
DTSTART:20260331T120000Z
DTEND:20260331T120000Z
DTSTAMP:20260421T135135Z
CREATED:20221001T145415Z
LAST-MODIFIED:20260223T135452Z
END:VEVENT
BEGIN:VEVENT
SUMMARY:Jugendstunde
DESCRIPTION:
UID:273176@www.nak-kempten.de
LOCATION:
CATEGORIES:Bezirk (ohne Gemeinden),Jugend
X-ORGANIZER:
STATUS:CONFIRMED
CLASS:PUBLIC
DTSTART:20260612T173000Z
DTEND:20260612T173000Z
DTSTAMP:20260421T135135Z
CREATED:20230125T120830Z
LAST-MODIFIED:20251226T125632Z
END:VEVENT
BEGIN:VEVENT
SUMMARY: "Musik für Kleinste"
DESCRIPTION:<p>zum Mitmachen für Eltern/Großeltern/Begleitpersonen</p>
 \n
UID:273178@www.nak-kempten.de
LOCATION:Immenstadt
CATEGORIES:Musik,Bezirk (ohne Gemeinden),Kinder,Immenstadt
X-ORGANIZER:
STATUS:CONFIRMED
CLASS:PUBLIC
DTSTART:20260507T133000Z
DTEND:20260507T133000Z
DTSTAMP:20260421T135135Z
CREATED:20230125T122138Z
LAST-MODIFIED:20260421T113553Z
END:VEVENT
BEGIN:VEVENT
SUMMARY:Gottesdienst mit Stammapostel Jean-Luc Schneider - Pfingsten
DESCRIPTION:<p>Bildübertragung aus Südafrika</p>\n\n<p>&nbsp;</p>\n\n<
 p>&nbsp;</p>\n
UID:273273@www.nak-kempten.de
LOCATION:alle Gemeinden mit BÜ
CATEGORIES:Bezirk (und alle Gemeinden),Gottesdienst
X-ORGANIZER:
STATUS:CONFIRMED
CLASS:PUBLIC
DTSTART:20260524T080000Z
DTEND:20260524T080000Z
DTSTAMP:20260421T135135Z
CREATED:20230126T121703Z
LAST-MODIFIED:20251226T125109Z
END:VEVENT
BEGIN:VEVENT
SUMMARY:Fresh-Up Bezirks-Jugend-Gottesdienst 
DESCRIPTION:<p>(DL BV)&nbsp;</p>\n
UID:273276@www.nak-kempten.de
LOCATION:Füssen
CATEGORIES:Füssen am Lech,Jugend,Gottesdienst,Bezirk (ohne Gemeinden)
X-ORGANIZER:
STATUS:CONFIRMED
CLASS:PUBLIC
DTSTART:20260408T173000Z
DTEND:20260408T173000Z
DTSTAMP:20260421T135135Z
CREATED:20230126T135618Z
LAST-MODIFIED:20260327T121345Z
END:VEVENT
BEGIN:VEVENT
SUMMARY:Bezirks-Kindergottesdienst
DESCRIPTION:<p>(Pr. Roth)</p>\n
UID:276616@www.nak-kempten.de
LOCATION:Waltenhofen
CATEGORIES:Kinder,Waltenhofen,Bezirk (ohne Gemeinden),Gottesdienst
X-ORGANIZER:
STATUS:CONFIRMED
CLASS:PUBLIC
DTSTART:20260322T090000Z
DTEND:20260322T090000Z
DTSTAMP:20260421T135135Z
CREATED:20230301T110144Z
LAST-MODIFIED:20260223T133942Z
END:VEVENT
BEGIN:VEVENT
SUMMARY:Blechbläserprobe
DESCRIPTION:
UID:277535@www.nak-kempten.de
LOCATION:Kempten-Sankt Mang
CATEGORIES:Kempten-Sankt Mang,Musik,Bezirk (ohne Gemeinden)
X-ORGANIZER:
STATUS:CONFIRMED
CLASS:PUBLIC
DTSTART:20260420T170000Z
DTEND:20260420T170000Z
DTSTAMP:20260421T135135Z
CREATED:20230321T122500Z
LAST-MODIFIED:20260327T122031Z
END:VEVENT
BEGIN:VEVENT
SUMMARY:Gottesdienst mit Stammapostel Jean-Luc Schneider
DESCRIPTION:<p>BTÜ Bezirksapostelbereich aus Karlsruhe-Mitte</p>\n\n<p>
 <span><span>Ruhesetzung Bezirksapostel</span></span></p>\n
UID:328537@www.nak-kempten.de
LOCATION:alle Gemeinden mit BÜ
CATEGORIES:Gottesdienst,Bezirk (und alle Gemeinden)
X-ORGANIZER:
STATUS:CONFIRMED
CLASS:PUBLIC
DTSTART:20260621T080000Z
DTEND:20260621T080000Z
DTSTAMP:20260421T135135Z
CREATED:20250109T120036Z
LAST-MODIFIED:20251226T125913Z
END:VEVENT
BEGIN:VEVENT
SUMMARY:Bezirkschorprobe
DESCRIPTION:<p><span><span>Probentermin Bezirkschor Kempten für Ostern 
 2026</span></span></p>\n
UID:355325@www.nak-kempten.de
LOCATION:Kempten-Süd
CATEGORIES:Musik,Bezirk (ohne Gemeinden),Kempten-Süd
X-ORGANIZER:
STATUS:CONFIRMED
CLASS:PUBLIC
DTSTART;VALUE=DATE:20260404
DTEND;VALUE=DATE:20260405
DTSTAMP:20260421T135135Z
CREATED:20251222T224654Z
LAST-MODIFIED:20260327T120904Z
END:VEVENT
BEGIN:VEVENT
SUMMARY:Frühlingsmarkt in der Gemeinde Immenstadt
DESCRIPTION:<p>Einladung zum großen Frühlingsmarkt in der Gemeinde Imm
 enstadt mit buntem Programm.</p>\n
UID:360703@www.nak-kempten.de
LOCATION:Immenstadt
CATEGORIES:Immenstadt,Bezirk (ohne Gemeinden)
X-ORGANIZER:
STATUS:CONFIRMED
CLASS:PUBLIC
DTSTART:20260328T110000Z
DTEND:20260328T160000Z
DTSTAMP:20260421T135135Z
CREATED:20260302T194140Z
LAST-MODIFIED:20260303T164306Z
END:VEVENT
BEGIN:VEVENT
SUMMARY:Lebendiger Kreuzweg
DESCRIPTION:<p><br />\n&nbsp;</p>\n\n<p>&nbsp;</p>\n
UID:361696@www.nak-kempten.de
LOCATION:Evangelischen St.-Mang-Kirche in Kempten
CATEGORIES:Bezirk (ohne Gemeinden)
X-ORGANIZER:
STATUS:CONFIRMED
CLASS:PUBLIC
DTSTART:20260327T163000Z
DTEND:20260327T163000Z
DTSTAMP:20260421T135135Z
CREATED:20260323T192419Z
LAST-MODIFIED:20260324T174948Z
END:VEVENT
BEGIN:VEVENT
SUMMARY:Jugenbetreuertag für Jugendleiter, Jugenbetreuer, Konfirmandenl
 ehrer
DESCRIPTION:<p>Jugenbetreuertag für Jugendleiter, Jugenbetreuer, Konfir
 mandenlehrer in Ulm-Ost</p>\n
UID:362237@www.nak-kempten.de
LOCATION:Ulm-Ost
CATEGORIES:Jugend,Bezirk (ohne Gemeinden)
X-ORGANIZER:
STATUS:CONFIRMED
CLASS:PUBLIC
DTSTART:20260418T073000Z
DTEND:20260418T130000Z
DTSTAMP:20260421T135135Z
CREATED:20260327T121610Z
LAST-MODIFIED:20260327T121830Z
END:VEVENT
END:VCALENDAR
